BEGIN:VCALENDAR
VERSION:2.0
PRODID:-//eventon.com NONSGML v1.0//EN
CALSCALE:GREGORIAN
METHOD:PUBLISH
BEGIN:VEVENT
UID:69e5cf27f2d8f
DTSTAMP:20260420T070055Z
DTSTART:20240307T223000Z
DTEND:20240308T010000Z
LOCATION:The Signal 21 Choo Choo Ave
SUMMARY:International Women's Day Event- Chattanooga
DESCRIPTION:Join us in Chattanooga\,  TN\,  on March 7th\,  2024\,  for an 
 empowering International Women&#8217;s Day event! By bringing women in busi
 ness together\,  we amplify opportunities for growth\,  collaboration\,  an
 d success. Empowering women to navigate the financial landscape with confid
 ence. Whether you&#8217;re a seasoned entrepreneur or just starting\,  let&
 #8217;s share insights[..]\nhttps://wearewomenconnect.com/events/internatio
 nal-womens-day-event-chattanooga/
URL:https://wearewomenconnect.com/events/international-womens-day-event-chattanooga/
END:VEVENT
END:VCALENDAR