BEGIN:VCALENDAR
VERSION:2.0
PRODID:-//eventon.com NONSGML v1.0//EN
CALSCALE:GREGORIAN
METHOD:PUBLISH
BEGIN:VEVENT
UID:69e607694788c
DTSTAMP:20260420T110057Z
DTSTART:20221020T140000Z
DTEND:20221020T230000Z
LOCATION:Loveless Cafe Barn 8400 TN-100
SUMMARY:TN Women Connect LIVE | Abundance Conference
DESCRIPTION:&nbsp; Click here for details and tickets! Tickets are LIVE for
  our 2022 TN Women Connect LIVE conference! Our theme this year is ABUNDANC
 E and we are so excited to bring you an Abundance of amazing female speaker
 s and business owners.  October 20th is the date so grab your ticket\, [..
 ]\nhttps://wearewomenconnect.com/events/tn-women-connect-live-abundance-con
 ference/
URL:https://wearewomenconnect.com/events/tn-women-connect-live-abundance-conference/
END:VEVENT
END:VCALENDAR