BEGIN:VCALENDAR
VERSION:2.0
PRODID:-//eventon.com NONSGML v1.0//EN
CALSCALE:GREGORIAN
METHOD:PUBLISH
BEGIN:VEVENT
UID:69e8a378124ba
DTSTAMP:20260422T103120Z
DTSTART:20220727T223000Z
DTEND:20220728T000000Z
LOCATION:Hidden Seed Plant Store 127 Locke Avenue\, 
SUMMARY:Spring Hill | Networking Happy Hour
DESCRIPTION:Enjoy a cool treat while networking with other women businesses
  in Spring Hill on July 27th!\nhttps://wearewomenconnect.com/events/spring-
 hill-networking-happy-hour/
URL:https://wearewomenconnect.com/events/spring-hill-networking-happy-hour/
END:VEVENT
END:VCALENDAR